BEGIN:VCALENDAR
VERSION:2.0
PRODID:-//Isidre Sierra - ECPv6.15.13//NONSGML v1.0//EN
CALSCALE:GREGORIAN
METHOD:PUBLISH
X-ORIGINAL-URL:https://isidresierra.cat
X-WR-CALDESC:Esdeveniments per Isidre Sierra
REFRESH-INTERVAL;VALUE=DURATION:PT1H
X-Robots-Tag:noindex
X-PUBLISHED-TTL:PT1H
BEGIN:VTIMEZONE
TZID:UTC
BEGIN:STANDARD
TZOFFSETFROM:+0000
TZOFFSETTO:+0000
TZNAME:UTC
DTSTART:20150101T000000
END:STANDARD
END:VTIMEZONE
BEGIN:VEVENT
DTSTART;TZID=UTC:20230514T120000
DTEND;TZID=UTC:20230514T140000
DTSTAMP:20260422T125634
CREATED:20230508T093225Z
LAST-MODIFIED:20230508T093225Z
UID:1712-1684065600-1684072800@isidresierra.cat
SUMMARY:Presentació candidatura municipals 2023
DESCRIPTION:El proper diumenge 14 de maig us convidem a la presentació de la candidatura de Junts a Sant Climent de Llobregat. \nUs explicarem les principals propostes de present i futur pel poble. I gaudirem d’un vermut musical amb DJ Condeminas. \nEsteu tots convidats i convidades.
URL:https://isidresierra.cat/agenda/presentacio-candidatura-municipals-2023/
LOCATION:Biblioteca Ca l’Altisent\, Plaça LLuís Companys\, Sant Climent de Llobregat\, Barcelona\, 08849\, Espanya
ATTACH;FMTTYPE=image/jpeg:https://isidresierra.cat/wp-content/uploads/2023/05/CARTELL_VERMUT_CANDIDATURA.jpg
END:VEVENT
BEGIN:VEVENT
DTSTART;TZID=UTC:20201208T120000
DTEND;TZID=UTC:20201208T130000
DTSTAMP:20260422T125634
CREATED:20201206T105018Z
LAST-MODIFIED:20201206T105018Z
UID:1608-1607428800-1607432400@isidresierra.cat
SUMMARY:Vermuth amb Judith Toronjo i Isidre Sierra
DESCRIPTION:Segueix el col.loqui entre els dos candidats a les primàries de segona urna de la Vegueria Comarques de Barcelona. \nPlataforma zoom: 968 5056 4717
URL:https://isidresierra.cat/agenda/vermuth-amb-judith-toronjo-i-isidre-sierra/
LOCATION:plataforma zoom
ATTACH;FMTTYPE=image/jpeg:https://isidresierra.cat/wp-content/uploads/2020/12/2-banner-dimarts-judith-horitzontal.jpg
END:VEVENT
BEGIN:VEVENT
DTSTART;TZID=UTC:20201207T184000
DTEND;TZID=UTC:20201207T192000
DTSTAMP:20260422T125634
CREATED:20201206T104215Z
LAST-MODIFIED:20201206T104355Z
UID:1602-1607366400-1607368800@isidresierra.cat
SUMMARY:Acte primàries JUNTS - Grup Reunim-nos
DESCRIPTION:Conversa i coneix a Isidre Sierra dilluns 7 de desembre a les 18:40 h a Plataforma ZOOM 848 2909 4301 \nacte primaries : reunim-nos\nEl Grup Reunim-nos agrupa militants i simpatitzants de JUNTS que s’han organitzat com a corrent intern del partit.\nHan organitzat com a Reunim-nos trobades amb un format de 30 minuts per cada candidat a primàries de segona urna.\nL’objectiu és donar a conèixer molts dels candidats i candidates i així es puguin traslladar el màxim de preguntes possibles en un format dinàmic.
URL:https://isidresierra.cat/agenda/acte-primaries-junts-grup-reunim-nos/
LOCATION:plataforma zoom
ATTACH;FMTTYPE=image/jpeg:https://isidresierra.cat/wp-content/uploads/2020/12/1-banner-dilluns-reunimnos.jpg
END:VEVENT
BEGIN:VEVENT
DTSTART;TZID=UTC:20190523T203000
DTEND;TZID=UTC:20190523T223000
DTSTAMP:20260422T125634
CREATED:20190510T104523Z
LAST-MODIFIED:20190510T104523Z
UID:1506-1558643400-1558650600@isidresierra.cat
SUMMARY:Miting final Municipals 2019: Isidre Sierra el teu alcalde
DESCRIPTION:el proper dijous 23 de maig de 2019 a les 20:30 h farem el miting final de campanya. \nEs presentarà el programa electoral i es farà un resum de les fites aconseguides aquesta pasada legislatura. \n 
URL:https://isidresierra.cat/agenda/miting-final-municipals-2019-isidre-sierra-el-teu-alcalde/
LOCATION:Casal de Cultura\, Carrer Pau Casals\, 1\, Sant Climent de Llobregat\, Barcelona\, 08849\, Espanya
ATTACH;FMTTYPE=image/jpeg:https://isidresierra.cat/wp-content/uploads/2019/05/cartell-selfie.jpg
END:VEVENT
BEGIN:VEVENT
DTSTART;TZID=UTC:20190512T113000
DTEND;TZID=UTC:20190512T133000
DTSTAMP:20260422T125634
CREATED:20190510T103841Z
LAST-MODIFIED:20190510T103841Z
UID:1501-1557660600-1557667800@isidresierra.cat
SUMMARY:Presentació Candidatura JuntsxCat Sant Climent - Municipals 2019
DESCRIPTION:Hem fet un grup renovat i afegim a l’expertesa del nostre alcalde\, nous climentos i climentones que donen entrada a noves idees amb un clar caire transversal. \nVine diumenge 12 de maig a 2/4 de 12 del migdia a la Plaça Lluís Companys i compartirem una estona per explicar els nous projectes. \nTambé gaudirem d’una estona amb música en viu i un refrigeri per tothom.
URL:https://isidresierra.cat/agenda/presentacio-candidatura-juntsxcat-sant-climent-municipals-2019/
LOCATION:Ajuntament de Sant Climent de Llobregat\, Plaça de la Vila\,1\, Sant Climent de Llobregat\, Barcelona\, 08849
ATTACH;FMTTYPE=image/jpeg:https://isidresierra.cat/wp-content/uploads/2019/05/anunci-274x199_3.jpg
END:VEVENT
BEGIN:VEVENT
DTSTART;TZID=UTC:20180928T100000
DTEND;TZID=UTC:20180928T130000
DTSTAMP:20260422T125634
CREATED:20180923T105550Z
LAST-MODIFIED:20180923T105550Z
UID:1436-1538128800-1538139600@isidresierra.cat
SUMMARY:Comité executiu Associació Catalana Municipis
DESCRIPTION:el proper divendres 28 de setembre farem el comité executiu de l’ACM al Monestir de Poblet. Tindrem la presència del Conseller Miquel Buch
URL:https://isidresierra.cat/agenda/comite-executiu-associacio-catalana-municipis/
LOCATION:Monestir de Poblet\, Poblet
ATTACH;FMTTYPE=image/jpeg:https://isidresierra.cat/wp-content/uploads/2018/09/IMG_1123.jpg
END:VEVENT
BEGIN:VEVENT
DTSTART;TZID=UTC:20180927T190000
DTEND;TZID=UTC:20180927T210000
DTSTAMP:20260422T125634
CREATED:20180922T134911Z
LAST-MODIFIED:20180923T105147Z
UID:1432-1538074800-1538082000@isidresierra.cat
SUMMARY:Ple ordinari mes de setembre - Sant Climent de Llobregat
DESCRIPTION:el proper dijous 27 de setembre a les 7 del vespre i a la sala de plens farem ple ordinari amb els següents punts de l’ordre del dia: \n\nNomenament nova regidora del PDeCAT\, Neus Serrano.\nAprovar inicialment la licitació de la concessió de serveis per convertir la Masia Can Bonet en un espai d’atenció a la gent gran (Residencia geriàtrica\, centre de dia\,…..)\nVàries modificacions de crèdit.\nAprovar definitivament el conveni per finançar les obres de la nova biblioteca de Ca l’Altisent\nInformació alcaldia i altres temes de tràmit
URL:https://isidresierra.cat/agenda/ple-ordinari-mes-de-setembre-sant-climent-de-llobregat/
LOCATION:Ajuntament de Sant Climent de Llobregat\, Plaça de la Vila\,1\, Sant Climent de Llobregat\, Barcelona\, 08849
ATTACH;FMTTYPE=image/jpeg:https://isidresierra.cat/wp-content/uploads/2018/09/2016-12-ple-pressupostos.jpg
END:VEVENT
BEGIN:VEVENT
DTSTART;TZID=UTC:20170704T193000
DTEND;TZID=UTC:20170704T213000
DTSTAMP:20260422T125634
CREATED:20170703T143120Z
LAST-MODIFIED:20170703T143424Z
UID:1383-1499196600-1499203800@isidresierra.cat
SUMMARY:Acte polític-GARANTIES PER  A LA DEMOCRÀCIA –Per un referèndum legal\, efectiu i vinculant
DESCRIPTION:el dimarts 4 de juliol a les 19:30 es farà l’acte polític-GARANTIES PER  A LA DEMOCRÀCIA –Per un referèndum legal\, efectiu i vinculant. \nEns trobarem al TNC per fer costat al Govern de la Generalitat de Catalunya i als diputats i diputades independentistes del Parlament.
URL:https://isidresierra.cat/agenda/acte-politic-garanties-per-a-la-democracia-per-un-referendum-legal-efectiu-i-vinculant/
LOCATION:Teatre Nacional de Catalunya\, Plaça de les Arts\, 1\, Barcelona\, Barcelona
ATTACH;FMTTYPE=image/jpeg:https://isidresierra.cat/wp-content/uploads/2017/07/foto_tnc_edifici_exterior_nit_1a_toni_bofill_tnc.jpg
END:VEVENT
BEGIN:VEVENT
DTSTART;TZID=UTC:20170701T000000
DTEND;TZID=UTC:20170701T140000
DTSTAMP:20260422T125634
CREATED:20170628T111354Z
LAST-MODIFIED:20170628T111354Z
UID:1362-1498867200-1498917600@isidresierra.cat
SUMMARY:L’1 DE JULIOL\, EL MÓN LOCAL MOSTRA EL SEU COMPROMÍS AMB EL REFERÈNDUM
DESCRIPTION:Aquest proper 1 de juliol\, l’Associació de Municipis per la Independència (AMI) i l’Associació Catalana de Municipis (ACM) han convocat els alcaldes i alcaldesses de Catalunya a un acte per mostrar el ferm compromís del món local amb la celebració del referèndum de l’1 d’octubre. \nL’alcalde de Sant Climent\, Isidre Sierra i Fusté\, ja ha confirmat la seva presència i el seu compromís en cedir espais per exercir la democràcia el proper 1 d’octubre de 2017. \nEn els propers mesos\, els ens locals catalans tindran un paper clau perquè la ciutadania pugui decidir quin ha de ser el futur del país. El municipalisme té clar que la voluntat del poble català preval per sobre de qualsevol estructura que no estigui a favor de la democràcia i del dret a decidir. \nLa convocatòria és dissabte 1 de juliol a les 12h del migdia a l’edifici Paranimf de la Universitat de Barcelona situat a la Gran Via de les Corts Catalanes\, 585
URL:https://isidresierra.cat/agenda/l1-de-juliol-el-mon-local-mostra-el-seu-compromis-amb-el-referendum/
LOCATION:Universitat de Barcelona\, Gran Via de les Corts Catalanes\,585\, Barcelona\, Barcelona
ATTACH;FMTTYPE=image/jpeg:https://isidresierra.cat/wp-content/uploads/2017/06/cartellmonlocalreferendum.jpg
END:VEVENT
BEGIN:VEVENT
DTSTART;TZID=UTC:20160927T190000
DTEND;TZID=UTC:20160927T200000
DTSTAMP:20260422T125634
CREATED:20160922T181155Z
LAST-MODIFIED:20160922T181155Z
UID:1297-1475002800-1475006400@isidresierra.cat
SUMMARY:Acte amb Militants a Sant Feliu
DESCRIPTION:
URL:https://isidresierra.cat/agenda/acte-amb-militants-a-sant-feliu/
LOCATION:Local PDC Sant Feliu de Llobregat
END:VEVENT
BEGIN:VEVENT
DTSTART;TZID=UTC:20160926T200000
DTEND;TZID=UTC:20160926T210000
DTSTAMP:20260422T125634
CREATED:20160923T091314Z
LAST-MODIFIED:20160923T091314Z
UID:1311-1474920000-1474923600@isidresierra.cat
SUMMARY:Acte a Martorell
DESCRIPTION:
URL:https://isidresierra.cat/agenda/acte-a-martorell/
LOCATION:Local PDC de Martorell
END:VEVENT
BEGIN:VEVENT
DTSTART;TZID=UTC:20160923T203000
DTEND;TZID=UTC:20160923T211500
DTSTAMP:20260422T125634
CREATED:20160922T181114Z
LAST-MODIFIED:20160922T181114Z
UID:1293-1474662600-1474665300@isidresierra.cat
SUMMARY:Acte amb Militants de Corbera
DESCRIPTION:
URL:https://isidresierra.cat/agenda/acte-amb-militants-de-corbera/
LOCATION:Local PDC Corbera
END:VEVENT
BEGIN:VEVENT
DTSTART;TZID=UTC:20160923T073000
DTEND;TZID=UTC:20160923T201500
DTSTAMP:20260422T125634
CREATED:20160922T181033Z
LAST-MODIFIED:20160922T181033Z
UID:1289-1474615800-1474661700@isidresierra.cat
SUMMARY:Acte amb Militants de Pallejà
DESCRIPTION:
URL:https://isidresierra.cat/agenda/acte-amb-militants-de-palleja/
LOCATION:Local CDC Pallejà
END:VEVENT
BEGIN:VEVENT
DTSTART;TZID=UTC:20160922T180000
DTEND;TZID=UTC:20160922T190000
DTSTAMP:20260422T125634
CREATED:20160922T180946Z
LAST-MODIFIED:20160922T180946Z
UID:1285-1474567200-1474570800@isidresierra.cat
SUMMARY:Trobada amb Ricard Font a la AMB
DESCRIPTION:
URL:https://isidresierra.cat/agenda/trobada-amb-ricard-font-a-la-amb/
LOCATION:AMB
END:VEVENT
END:VCALENDAR